BEGIN:VCALENDAR
VERSION:2.0
PRODID:-//Red Salmon Arts - ECPv6.15.12.2//NONSGML v1.0//EN
CALSCALE:GREGORIAN
METHOD:PUBLISH
X-ORIGINAL-URL:https://www.resistenciabooks.com
X-WR-CALDESC:Events for Red Salmon Arts
REFRESH-INTERVAL;VALUE=DURATION:PT1H
X-Robots-Tag:noindex
X-PUBLISHED-TTL:PT1H
BEGIN:VTIMEZONE
TZID:America/Mexico_City
BEGIN:DAYLIGHT
TZOFFSETFROM:-0600
TZOFFSETTO:-0500
TZNAME:CDT
DTSTART:20200405T080000
END:DAYLIGHT
BEGIN:STANDARD
TZOFFSETFROM:-0500
TZOFFSETTO:-0600
TZNAME:CST
DTSTART:20201025T070000
END:STANDARD
BEGIN:DAYLIGHT
TZOFFSETFROM:-0600
TZOFFSETTO:-0500
TZNAME:CDT
DTSTART:20210404T080000
END:DAYLIGHT
BEGIN:STANDARD
TZOFFSETFROM:-0500
TZOFFSETTO:-0600
TZNAME:CST
DTSTART:20211031T070000
END:STANDARD
BEGIN:DAYLIGHT
TZOFFSETFROM:-0600
TZOFFSETTO:-0500
TZNAME:CDT
DTSTART:20220403T080000
END:DAYLIGHT
BEGIN:STANDARD
TZOFFSETFROM:-0500
TZOFFSETTO:-0600
TZNAME:CST
DTSTART:20221030T070000
END:STANDARD
END:VTIMEZONE
BEGIN:VEVENT
DTSTART;TZID=America/Mexico_City:20210626T130000
DTEND;TZID=America/Mexico_City:20210626T150000
DTSTAMP:20260421T073506
CREATED:20210612T203610Z
LAST-MODIFIED:20210614T234536Z
UID:7874-1624712400-1624719600@www.resistenciabooks.com
SUMMARY:Zine-Making as an Act of Community Self-Care with Leticia Urieta
DESCRIPTION:1:00 PM Saturday\, 26 June 2021 \nSponsored by Red Salmon Arts \nIn this workshop\, writer and community teaching artist\, Leticia Urieta\, will teach participants to learn how to make a zine as an expression of self-care\, creativity\, and survival. Drawing on our experiences as Chicana/o/x Latina/o/x Indigenous peoples\, this workshop will also be an opportunity to also reflect upon how we document our historias. \nRegister in advance for this meeting:\nhttps://zoom.us/meeting/register/tJUrfuuhrD0iGtSDAd-Yow2UPa8jpcjzD8pe \nAfter registering\, you will receive a confirmation email containing information about joining the meeting. \nAoout the facilitator: \nLeticia Urieta is Tejana writer from Austin\, TX. Leticia is a graduate of Agnes Scott College with a BA in English/Creative Writing and holds an MFA in Fiction writing from Texas State University. \nShe works a teaching artist in the Austin community with a focus on the pedagogy of equity in creative writing. She is the Regional Program Manager for Austin Bat Cave and is the director of Barrio Writers in Austin\, a free college level youth writers workshop founded by author and activist Sarah Rafael Garcia in Santa Ana\, CA. \nHer creative work appears in PANK\, Chicon Street Poets\, Lumina and many others. Her fiction explores the intersections of Latinx identity with the folklore\, traditional stories and the supernatural or speculative. Her mixed genre collection of poetry and prose\, Las Criaturas\, is forthcoming from FlowerSong Press. \nFMI: https://leticiaaurieta.com/ \nRed Salmon Arts is a 501(c)3 grassroots cultural arts organization\, with a thirty-year history of working with the indigenous neighborhoods of Austin. RSA is dedicated to the development of emerging writers and the promotion of Chicanx/@/Latinx/@/Native American literature\, providing outlets and mechanisms for cultural exchange\, and sharing in the retrieval of a people’s cultural heritage with a commitment to social justice.
URL:https://www.resistenciabooks.com/event/zine-making-as-an-act-of-self-care-with-leticia-urieta
ATTACH;FMTTYPE=image/jpeg:https://www.resistenciabooks.com/wp-content/uploads/2021/06/Resilience-Zine-Making-2021-1.jpg
END:VEVENT
END:VCALENDAR