BEGIN:VCALENDAR
VERSION:2.0
PRODID:-//Red Salmon Arts - ECPv6.15.12.2//NONSGML v1.0//EN
CALSCALE:GREGORIAN
METHOD:PUBLISH
X-WR-CALNAME:Red Salmon Arts
X-ORIGINAL-URL:https://www.resistenciabooks.com
X-WR-CALDESC:Events for Red Salmon Arts
REFRESH-INTERVAL;VALUE=DURATION:PT1H
X-Robots-Tag:noindex
X-PUBLISHED-TTL:PT1H
BEGIN:VTIMEZONE
TZID:America/Mexico_City
BEGIN:STANDARD
TZOFFSETFROM:-0600
TZOFFSETTO:-0600
TZNAME:CST
DTSTART:20240101T000000
END:STANDARD
END:VTIMEZONE
BEGIN:VEVENT
DTSTART;TZID=America/Mexico_City:20251214T120000
DTEND;TZID=America/Mexico_City:20251214T180000
DTSTAMP:20260419T105551
CREATED:20251113T035044Z
LAST-MODIFIED:20251113T035131Z
UID:10157-1765713600-1765735200@www.resistenciabooks.com
SUMMARY:X-Mas Tiendita 2025
DESCRIPTION:Join us Sunday\, December 14th from 12:00 PM – 6:00 PM for Resistencia’s Annual X-Mas Tiendita. \nThis year we are also fundraising for Red Salmon Arts as we continue to maintain our bookstore and community space\, supporting cultural groups and artists from all over Austin and beyond. \nFEATURING: \nVendors\nGifts\nMúsica\nBooks \nFilm screening in the evening featuring Anne Lewis’ experimental short documentaries Un Trip\, about RSA founder raúlrsalinas\, and On Dying of Dementia In A Capitalist System. \n\nRelated
URL:https://www.resistenciabooks.com/event/x-mas-tiendita-2025
LOCATION:Red Salmon Arts\, Casa de Resistencia Books\, 2000 Thrasher Ln.\, Austin\, TX\, 78741\, United States
ATTACH;FMTTYPE=image/png:https://www.resistenciabooks.com/wp-content/uploads/2025/11/Copy-of-2025_RedSalmonArts_Resistencia_October11_InstagramPost_45_1080x1350px.png
END:VEVENT
END:VCALENDAR