BEGIN:VCALENDAR
VERSION:2.0
PRODID:-//Red Salmon Arts - ECPv6.15.12.2//NONSGML v1.0//EN
CALSCALE:GREGORIAN
METHOD:PUBLISH
X-WR-CALNAME:Red Salmon Arts
X-ORIGINAL-URL:https://www.resistenciabooks.com
X-WR-CALDESC:Events for Red Salmon Arts
REFRESH-INTERVAL;VALUE=DURATION:PT1H
X-Robots-Tag:noindex
X-PUBLISHED-TTL:PT1H
BEGIN:VTIMEZONE
TZID:America/Mexico_City
BEGIN:STANDARD
TZOFFSETFROM:-0600
TZOFFSETTO:-0600
TZNAME:CST
DTSTART:20240101T000000
END:STANDARD
END:VTIMEZONE
BEGIN:VEVENT
DTSTART;TZID=America/Mexico_City:20251107T190000
DTEND;TZID=America/Mexico_City:20251107T210000
DTSTAMP:20260421T041931
CREATED:20251106T030927Z
LAST-MODIFIED:20251106T032215Z
UID:10137-1762542000-1762549200@www.resistenciabooks.com
SUMMARY:platicas y poetry: a fundraiser for resistencia books
DESCRIPTION:Gather with us to raise some bread for Resistencia and TX Dreamers!!! Nov 7th 7-9 PM!!  \n\n\n\nA Café Libro Event \n\n\n\nTX legislators have continued to come after students time and time again. WE MUST support our compas who have been impacted by the repeal of the Texas Dream Act. \n\n\n\nArtist sign-up begins at 6:30 PM!!! Calling all: \n\n\n\n• Musicians \n\n\n\n• Poets \n\n\n\n• Rappers \n\n\n\n• etc. \n\n\n\nLocation: 2000 Thrasher Ln.\, Austin\, Texas 78741
URL:https://www.resistenciabooks.com/event/platicas-y-poetry-a-fundraiser-for-resistencia-books
LOCATION:Red Salmon Arts\, Casa de Resistencia Books\, 2000 Thrasher Ln.\, Austin\, TX\, 78741\, United States
ATTACH;FMTTYPE=image/png:https://www.resistenciabooks.com/wp-content/uploads/2025/11/platicaspoetry.png
END:VEVENT
END:VCALENDAR